BEGIN:VCALENDAR
VERSION:2.0
PRODID:-//Not Just Seattle - ECPv6.15.20//NONSGML v1.0//EN
CALSCALE:GREGORIAN
METHOD:PUBLISH
X-WR-CALNAME:Not Just Seattle
X-ORIGINAL-URL:https://www.notjustseattle.com
X-WR-CALDESC:Events for Not Just Seattle
REFRESH-INTERVAL;VALUE=DURATION:PT1H
X-Robots-Tag:noindex
X-PUBLISHED-TTL:PT1H
BEGIN:VTIMEZONE
TZID:America/Los_Angeles
BEGIN:DAYLIGHT
TZOFFSETFROM:-0800
TZOFFSETTO:-0700
TZNAME:PDT
DTSTART:20170312T100000
END:DAYLIGHT
BEGIN:STANDARD
TZOFFSETFROM:-0700
TZOFFSETTO:-0800
TZNAME:PST
DTSTART:20171105T090000
END:STANDARD
BEGIN:DAYLIGHT
TZOFFSETFROM:-0800
TZOFFSETTO:-0700
TZNAME:PDT
DTSTART:20180311T100000
END:DAYLIGHT
BEGIN:STANDARD
TZOFFSETFROM:-0700
TZOFFSETTO:-0800
TZNAME:PST
DTSTART:20181104T090000
END:STANDARD
BEGIN:DAYLIGHT
TZOFFSETFROM:-0800
TZOFFSETTO:-0700
TZNAME:PDT
DTSTART:20190310T100000
END:DAYLIGHT
BEGIN:STANDARD
TZOFFSETFROM:-0700
TZOFFSETTO:-0800
TZNAME:PST
DTSTART:20191103T090000
END:STANDARD
BEGIN:DAYLIGHT
TZOFFSETFROM:-0800
TZOFFSETTO:-0700
TZNAME:PDT
DTSTART:20200308T100000
END:DAYLIGHT
BEGIN:STANDARD
TZOFFSETFROM:-0700
TZOFFSETTO:-0800
TZNAME:PST
DTSTART:20201101T090000
END:STANDARD
BEGIN:DAYLIGHT
TZOFFSETFROM:-0800
TZOFFSETTO:-0700
TZNAME:PDT
DTSTART:20210314T100000
END:DAYLIGHT
BEGIN:STANDARD
TZOFFSETFROM:-0700
TZOFFSETTO:-0800
TZNAME:PST
DTSTART:20211107T090000
END:STANDARD
BEGIN:DAYLIGHT
TZOFFSETFROM:-0800
TZOFFSETTO:-0700
TZNAME:PDT
DTSTART:20220313T100000
END:DAYLIGHT
BEGIN:STANDARD
TZOFFSETFROM:-0700
TZOFFSETTO:-0800
TZNAME:PST
DTSTART:20221106T090000
END:STANDARD
BEGIN:DAYLIGHT
TZOFFSETFROM:-0800
TZOFFSETTO:-0700
TZNAME:PDT
DTSTART:20230312T100000
END:DAYLIGHT
BEGIN:STANDARD
TZOFFSETFROM:-0700
TZOFFSETTO:-0800
TZNAME:PST
DTSTART:20231105T090000
END:STANDARD
END:VTIMEZONE
BEGIN:VEVENT
DTSTART;VALUE=DATE:20220304
DTEND;VALUE=DATE:20220307
DTSTAMP:20260425T083132
CREATED:20210311T180958Z
LAST-MODIFIED:20210311T180958Z
UID:5189-1646352000-1646611199@www.notjustseattle.com
SUMMARY:WINTHROP BALLOON ROUNDUP
DESCRIPTION:Here are the details. \nWINTHROP BALLOON ROUNDUP \n \nShare this:\n				Share on Facebook (Opens in new window)\n				Facebook\n			\n				Share on X (Opens in new window)\n				X\n			\n				Email a link to a friend (Opens in new window)\n				Email\n			\n				Share on Tumblr (Opens in new window)\n				Tumblr\n			\n				Share on LinkedIn (Opens in new window)\n				LinkedIn\n			Like this:Like Loading...
URL:https://www.notjustseattle.com/event/winthrop-balloon-roundup/
LOCATION:WA
CATEGORIES:Around Seattle
END:VEVENT
BEGIN:VEVENT
DTSTART;VALUE=DATE:20220107
DTEND;VALUE=DATE:20220110
DTSTAMP:20260425T083132
CREATED:20210326T163447Z
LAST-MODIFIED:20210326T163447Z
UID:5214-1641513600-1641772799@www.notjustseattle.com
SUMMARY:Orcacon
DESCRIPTION:Share this:\n				Share on Facebook (Opens in new window)\n				Facebook\n			\n				Share on X (Opens in new window)\n				X\n			\n				Email a link to a friend (Opens in new window)\n				Email\n			\n				Share on Tumblr (Opens in new window)\n				Tumblr\n			\n				Share on LinkedIn (Opens in new window)\n				LinkedIn\n			Like this:Like Loading...
URL:https://www.notjustseattle.com/event/orcacon-2/
LOCATION:Bellevue Hilton\, 300 112th Ave SE\, Belleuve\, WA\, 98004
CATEGORIES:Around Seattle,Geek
END:VEVENT
BEGIN:VEVENT
DTSTART;VALUE=DATE:20211202
DTEND;VALUE=DATE:20211203
DTSTAMP:20260425T083132
CREATED:20210326T162833Z
LAST-MODIFIED:20210326T162833Z
UID:5208-1638403200-1638489599@www.notjustseattle.com
SUMMARY:Emerald City Comiccon
DESCRIPTION:Share this:\n				Share on Facebook (Opens in new window)\n				Facebook\n			\n				Share on X (Opens in new window)\n				X\n			\n				Email a link to a friend (Opens in new window)\n				Email\n			\n				Share on Tumblr (Opens in new window)\n				Tumblr\n			\n				Share on LinkedIn (Opens in new window)\n				LinkedIn\n			Like this:Like Loading...
URL:https://www.notjustseattle.com/event/emerald-city-comiccon/
LOCATION:The Conference Center at the Washington State Convention Center\, 800 Pike\, Seattle\, WA\, United States
CATEGORIES:Geek
END:VEVENT
BEGIN:VEVENT
DTSTART;VALUE=DATE:20211105
DTEND;VALUE=DATE:20211108
DTSTAMP:20260425T083132
CREATED:20210326T163808Z
LAST-MODIFIED:20210326T163808Z
UID:5218-1636070400-1636329599@www.notjustseattle.com
SUMMARY:Kumoricon
DESCRIPTION:Share this:\n				Share on Facebook (Opens in new window)\n				Facebook\n			\n				Share on X (Opens in new window)\n				X\n			\n				Email a link to a friend (Opens in new window)\n				Email\n			\n				Share on Tumblr (Opens in new window)\n				Tumblr\n			\n				Share on LinkedIn (Opens in new window)\n				LinkedIn\n			Like this:Like Loading...
URL:https://www.notjustseattle.com/event/kumoricon-2/
LOCATION:Oregon Convention Center\, 777 NE Martin Luther King Jr Blvd\, Portland\, OR\, 97232\, United States
CATEGORIES:Geek
END:VEVENT
BEGIN:VEVENT
DTSTART;VALUE=DATE:20211009
DTEND;VALUE=DATE:20211010
DTSTAMP:20260425T083132
CREATED:20210326T164304Z
LAST-MODIFIED:20210326T164304Z
UID:5224-1633737600-1633823999@www.notjustseattle.com
SUMMARY:Grit City Comic Show
DESCRIPTION:Brought to you by Jet City Comic Shows \nShare this:\n				Share on Facebook (Opens in new window)\n				Facebook\n			\n				Share on X (Opens in new window)\n				X\n			\n				Email a link to a friend (Opens in new window)\n				Email\n			\n				Share on Tumblr (Opens in new window)\n				Tumblr\n			\n				Share on LinkedIn (Opens in new window)\n				LinkedIn\n			Like this:Like Loading...
URL:https://www.notjustseattle.com/event/grit-city-comic-show/
LOCATION:Tacoma Convention & Trade Center\, 1500 Broadway\, Tacoma\, WA\, United States
CATEGORIES:Geek
END:VEVENT
BEGIN:VEVENT
DTSTART;VALUE=DATE:20211002
DTEND;VALUE=DATE:20211004
DTSTAMP:20260425T083132
CREATED:20210326T163911Z
LAST-MODIFIED:20210326T163911Z
UID:5220-1633132800-1633305599@www.notjustseattle.com
SUMMARY:Lilac City Comicon
DESCRIPTION:Share this:\n				Share on Facebook (Opens in new window)\n				Facebook\n			\n				Share on X (Opens in new window)\n				X\n			\n				Email a link to a friend (Opens in new window)\n				Email\n			\n				Share on Tumblr (Opens in new window)\n				Tumblr\n			\n				Share on LinkedIn (Opens in new window)\n				LinkedIn\n			Like this:Like Loading...
URL:https://www.notjustseattle.com/event/lilac-city-comicon-3/
LOCATION:Spokane Convention Center\, 334 W Spokane Falls Blvd\, Spokane\, WA\, 99201\, United States
CATEGORIES:Geek
END:VEVENT
BEGIN:VEVENT
DTSTART;VALUE=DATE:20210910
DTEND;VALUE=DATE:20210913
DTSTAMP:20260425T083133
CREATED:20210326T163615Z
LAST-MODIFIED:20210326T163615Z
UID:5216-1631232000-1631491199@www.notjustseattle.com
SUMMARY:Rose City Comic Con
DESCRIPTION:Share this:\n				Share on Facebook (Opens in new window)\n				Facebook\n			\n				Share on X (Opens in new window)\n				X\n			\n				Email a link to a friend (Opens in new window)\n				Email\n			\n				Share on Tumblr (Opens in new window)\n				Tumblr\n			\n				Share on LinkedIn (Opens in new window)\n				LinkedIn\n			Like this:Like Loading...
URL:https://www.notjustseattle.com/event/rose-city-comic-con/
LOCATION:Oregon Convention Center\, 777 NE Martin Luther King Jr Blvd\, Portland\, OR\, 97232\, United States
CATEGORIES:Geek
END:VEVENT
BEGIN:VEVENT
DTSTART;VALUE=DATE:20210903
DTEND;VALUE=DATE:20210907
DTSTAMP:20260425T083133
CREATED:20210326T163130Z
LAST-MODIFIED:20210326T163130Z
UID:5210-1630627200-1630972799@www.notjustseattle.com
SUMMARY:PAX West
DESCRIPTION:The 2021 PAX will be online. \nShare this:\n				Share on Facebook (Opens in new window)\n				Facebook\n			\n				Share on X (Opens in new window)\n				X\n			\n				Email a link to a friend (Opens in new window)\n				Email\n			\n				Share on Tumblr (Opens in new window)\n				Tumblr\n			\n				Share on LinkedIn (Opens in new window)\n				LinkedIn\n			Like this:Like Loading...
URL:https://www.notjustseattle.com/event/pax-west-3/
LOCATION:WA
CATEGORIES:Geek
END:VEVENT
BEGIN:VEVENT
DTSTART;VALUE=DATE:20210605
DTEND;VALUE=DATE:20210607
DTSTAMP:20260425T083133
CREATED:20210326T164056Z
LAST-MODIFIED:20210326T164056Z
UID:5222-1622851200-1623023999@www.notjustseattle.com
SUMMARY:Evergreen Tabletop Expo
DESCRIPTION:Share this:\n				Share on Facebook (Opens in new window)\n				Facebook\n			\n				Share on X (Opens in new window)\n				X\n			\n				Email a link to a friend (Opens in new window)\n				Email\n			\n				Share on Tumblr (Opens in new window)\n				Tumblr\n			\n				Share on LinkedIn (Opens in new window)\n				LinkedIn\n			Like this:Like Loading...
URL:https://www.notjustseattle.com/event/evergreen-tabletop-expo/
LOCATION:WA
END:VEVENT
BEGIN:VEVENT
DTSTART;VALUE=DATE:20210401
DTEND;VALUE=DATE:20210405
DTSTAMP:20260425T083133
CREATED:20210326T163308Z
LAST-MODIFIED:20210326T163308Z
UID:5212-1617235200-1617580799@www.notjustseattle.com
SUMMARY:Norwescon
DESCRIPTION:The 2021 Norwescon will be held virtually. \nShare this:\n				Share on Facebook (Opens in new window)\n				Facebook\n			\n				Share on X (Opens in new window)\n				X\n			\n				Email a link to a friend (Opens in new window)\n				Email\n			\n				Share on Tumblr (Opens in new window)\n				Tumblr\n			\n				Share on LinkedIn (Opens in new window)\n				LinkedIn\n			Like this:Like Loading...
URL:https://www.notjustseattle.com/event/norwescon-2/
LOCATION:WA
CATEGORIES:Geek
END:VEVENT
BEGIN:VEVENT
DTSTART;VALUE=DATE:20200606
DTEND;VALUE=DATE:20200608
DTSTAMP:20260425T083133
CREATED:20190719T192544Z
LAST-MODIFIED:20190719T192544Z
UID:4704-1591401600-1591574399@www.notjustseattle.com
SUMMARY:Lilac City Comicon
DESCRIPTION:Share this:\n				Share on Facebook (Opens in new window)\n				Facebook\n			\n				Share on X (Opens in new window)\n				X\n			\n				Email a link to a friend (Opens in new window)\n				Email\n			\n				Share on Tumblr (Opens in new window)\n				Tumblr\n			\n				Share on LinkedIn (Opens in new window)\n				LinkedIn\n			Like this:Like Loading...
URL:https://www.notjustseattle.com/event/lilac-city-comicon-2/
LOCATION:Spokane Convention Center\, 334 W Spokane Falls Blvd\, Spokane\, WA\, 99201\, United States
CATEGORIES:Geek
END:VEVENT
BEGIN:VEVENT
DTSTART;VALUE=DATE:20200410
DTEND;VALUE=DATE:20200413
DTSTAMP:20260425T083133
CREATED:20190719T182307Z
LAST-MODIFIED:20190719T182421Z
UID:4687-1586476800-1586735999@www.notjustseattle.com
SUMMARY:Sakura-Con 2020
DESCRIPTION:Share this:\n				Share on Facebook (Opens in new window)\n				Facebook\n			\n				Share on X (Opens in new window)\n				X\n			\n				Email a link to a friend (Opens in new window)\n				Email\n			\n				Share on Tumblr (Opens in new window)\n				Tumblr\n			\n				Share on LinkedIn (Opens in new window)\n				LinkedIn\n			Like this:Like Loading...
URL:https://www.notjustseattle.com/event/sakura-con-202/
LOCATION:The Conference Center at the Washington State Convention Center\, 800 Pike\, Seattle\, WA\, United States
CATEGORIES:Geek,Seattle
END:VEVENT
BEGIN:VEVENT
DTSTART;VALUE=DATE:20200409
DTEND;VALUE=DATE:20200413
DTSTAMP:20260425T083133
CREATED:20190719T185252Z
LAST-MODIFIED:20190719T185326Z
UID:4694-1586390400-1586735999@www.notjustseattle.com
SUMMARY:Norwescon 43
DESCRIPTION:Share this:\n				Share on Facebook (Opens in new window)\n				Facebook\n			\n				Share on X (Opens in new window)\n				X\n			\n				Email a link to a friend (Opens in new window)\n				Email\n			\n				Share on Tumblr (Opens in new window)\n				Tumblr\n			\n				Share on LinkedIn (Opens in new window)\n				LinkedIn\n			Like this:Like Loading...
URL:https://www.notjustseattle.com/event/norwescon-43/
LOCATION:Double Tree Hotel – Seatac\, 18740 International BLVD\, Seatac\, WA\, United States
CATEGORIES:Geek,Seattle
END:VEVENT
BEGIN:VEVENT
DTSTART;VALUE=DATE:20200312
DTEND;VALUE=DATE:20200316
DTSTAMP:20260425T083133
CREATED:20190719T184823Z
LAST-MODIFIED:20190719T184823Z
UID:4691-1583971200-1584316799@www.notjustseattle.com
SUMMARY:Emerald City Comic Con
DESCRIPTION:Share this:\n				Share on Facebook (Opens in new window)\n				Facebook\n			\n				Share on X (Opens in new window)\n				X\n			\n				Email a link to a friend (Opens in new window)\n				Email\n			\n				Share on Tumblr (Opens in new window)\n				Tumblr\n			\n				Share on LinkedIn (Opens in new window)\n				LinkedIn\n			Like this:Like Loading...
URL:https://www.notjustseattle.com/event/emerald-city-comic-con/
LOCATION:The Conference Center at the Washington State Convention Center\, 800 Pike\, Seattle\, WA\, United States
CATEGORIES:Geek,Seattle
END:VEVENT
BEGIN:VEVENT
DTSTART;TZID=America/Los_Angeles:20200201T100000
DTEND;TZID=America/Los_Angeles:20200201T200000
DTSTAMP:20260425T083133
CREATED:20190913T043922Z
LAST-MODIFIED:20190913T044039Z
UID:4821-1580551200-1580587200@www.notjustseattle.com
SUMMARY:Nerd Faire
DESCRIPTION:At the Lynnwood Convention Center\, I’m really looking forward to this con…in my backyard! \nShare this:\n				Share on Facebook (Opens in new window)\n				Facebook\n			\n				Share on X (Opens in new window)\n				X\n			\n				Email a link to a friend (Opens in new window)\n				Email\n			\n				Share on Tumblr (Opens in new window)\n				Tumblr\n			\n				Share on LinkedIn (Opens in new window)\n				LinkedIn\n			Like this:Like Loading...
URL:https://www.notjustseattle.com/event/nerd-faire/
LOCATION:Lynnwood Convention Center\, 3711 196th Street SW\, Lynnwood\, WA\, 98037\, United States
ORGANIZER;CN="":MAILTO:setzebra000@edmonds15.org
END:VEVENT
BEGIN:VEVENT
DTSTART;VALUE=DATE:20200110
DTEND;VALUE=DATE:20200113
DTSTAMP:20260425T083133
CREATED:20190719T193400Z
LAST-MODIFIED:20190719T193400Z
UID:4713-1578614400-1578873599@www.notjustseattle.com
SUMMARY:Orcacon
DESCRIPTION:Share this:\n				Share on Facebook (Opens in new window)\n				Facebook\n			\n				Share on X (Opens in new window)\n				X\n			\n				Email a link to a friend (Opens in new window)\n				Email\n			\n				Share on Tumblr (Opens in new window)\n				Tumblr\n			\n				Share on LinkedIn (Opens in new window)\n				LinkedIn\n			Like this:Like Loading...
URL:https://www.notjustseattle.com/event/orcacon/
LOCATION:Bellevue Hilton\, 300 112th Ave SE\, Belleuve\, WA\, 98004
CATEGORIES:Geek
END:VEVENT
BEGIN:VEVENT
DTSTART;TZID=America/Los_Angeles:20191130T120000
DTEND;TZID=America/Los_Angeles:20191130T180000
DTSTAMP:20260425T083133
CREATED:20190914T180026Z
LAST-MODIFIED:20190914T180026Z
UID:4830-1575115200-1575136800@www.notjustseattle.com
SUMMARY:Pop Culture Pop-Up Market: Winter in Wonderland
DESCRIPTION:Join them on Small Business Saturday for an all geeky craft show and get your holiday shopping done for all the geeks in your life.\n\nShare this:\n				Share on Facebook (Opens in new window)\n				Facebook\n			\n				Share on X (Opens in new window)\n				X\n			\n				Email a link to a friend (Opens in new window)\n				Email\n			\n				Share on Tumblr (Opens in new window)\n				Tumblr\n			\n				Share on LinkedIn (Opens in new window)\n				LinkedIn\n			Like this:Like Loading...
URL:https://www.notjustseattle.com/event/pop-culture-pop-up-market-winter-in-wonderland/
LOCATION:Best Western Premier Plaza Hotel & Conference Center\, 620 South Hill Park Drive\, Puyallup\, WA\, 98373\, United States
CATEGORIES:Geek
END:VEVENT
BEGIN:VEVENT
DTSTART;VALUE=DATE:20191116
DTEND;VALUE=DATE:20191118
DTSTAMP:20260425T083133
CREATED:20190719T191604Z
LAST-MODIFIED:20190719T191604Z
UID:4697-1573862400-1574035199@www.notjustseattle.com
SUMMARY:Geek Girl Con
DESCRIPTION:Share this:\n				Share on Facebook (Opens in new window)\n				Facebook\n			\n				Share on X (Opens in new window)\n				X\n			\n				Email a link to a friend (Opens in new window)\n				Email\n			\n				Share on Tumblr (Opens in new window)\n				Tumblr\n			\n				Share on LinkedIn (Opens in new window)\n				LinkedIn\n			Like this:Like Loading...
URL:https://www.notjustseattle.com/event/geek-girl-con/
LOCATION:The Conference Center at the Washington State Convention Center\, 800 Pike\, Seattle\, WA\, United States
CATEGORIES:Geek,Seattle
END:VEVENT
BEGIN:VEVENT
DTSTART;VALUE=DATE:20191115
DTEND;VALUE=DATE:20191118
DTSTAMP:20260425T083133
CREATED:20190719T193726Z
LAST-MODIFIED:20190719T193726Z
UID:4721-1573776000-1574035199@www.notjustseattle.com
SUMMARY:Kumoricon 2019
DESCRIPTION:Share this:\n				Share on Facebook (Opens in new window)\n				Facebook\n			\n				Share on X (Opens in new window)\n				X\n			\n				Email a link to a friend (Opens in new window)\n				Email\n			\n				Share on Tumblr (Opens in new window)\n				Tumblr\n			\n				Share on LinkedIn (Opens in new window)\n				LinkedIn\n			Like this:Like Loading...
URL:https://www.notjustseattle.com/event/kumoricon-2019/
LOCATION:Oregon Convention Center\, 777 NE Martin Luther King Jr Blvd\, Portland\, OR\, 97232\, United States
CATEGORIES:Geek
END:VEVENT
BEGIN:VEVENT
DTSTART;VALUE=DATE:20191109
DTEND;VALUE=DATE:20191111
DTSTAMP:20260425T083133
CREATED:20190718T230227Z
LAST-MODIFIED:20190718T230227Z
UID:4671-1573257600-1573430399@www.notjustseattle.com
SUMMARY:NW Chocolate Festival
DESCRIPTION:Check out my blog post about this. \nShare this:\n				Share on Facebook (Opens in new window)\n				Facebook\n			\n				Share on X (Opens in new window)\n				X\n			\n				Email a link to a friend (Opens in new window)\n				Email\n			\n				Share on Tumblr (Opens in new window)\n				Tumblr\n			\n				Share on LinkedIn (Opens in new window)\n				LinkedIn\n			Like this:Like Loading...
URL:https://www.notjustseattle.com/event/nw-chocolate-festival/
LOCATION:PIer 91\, 2001 W Garfield St\, Seattle\, WA\, United States
CATEGORIES:Around Seattle
END:VEVENT
BEGIN:VEVENT
DTSTART;VALUE=DATE:20191019
DTEND;VALUE=DATE:20191020
DTSTAMP:20260425T083133
CREATED:20190719T182054Z
LAST-MODIFIED:20190719T182054Z
UID:4683-1571443200-1571529599@www.notjustseattle.com
SUMMARY:Bellingham Comicon
DESCRIPTION:You can also check them out on Facebook and Instagram \nShare this:\n				Share on Facebook (Opens in new window)\n				Facebook\n			\n				Share on X (Opens in new window)\n				X\n			\n				Email a link to a friend (Opens in new window)\n				Email\n			\n				Share on Tumblr (Opens in new window)\n				Tumblr\n			\n				Share on LinkedIn (Opens in new window)\n				LinkedIn\n			Like this:Like Loading...
URL:https://www.notjustseattle.com/event/bellingham-comicon-3/
LOCATION:Ferndale Event Center\, 5715 Barrett Rd\, Ferndale\, WA\, United States
CATEGORIES:Geek
END:VEVENT
BEGIN:VEVENT
DTSTART;VALUE=DATE:20190913
DTEND;VALUE=DATE:20190916
DTSTAMP:20260425T083133
CREATED:20190719T193548Z
LAST-MODIFIED:20190719T193548Z
UID:4717-1568332800-1568591999@www.notjustseattle.com
SUMMARY:Rose City Comicon
DESCRIPTION:Share this:\n				Share on Facebook (Opens in new window)\n				Facebook\n			\n				Share on X (Opens in new window)\n				X\n			\n				Email a link to a friend (Opens in new window)\n				Email\n			\n				Share on Tumblr (Opens in new window)\n				Tumblr\n			\n				Share on LinkedIn (Opens in new window)\n				LinkedIn\n			Like this:Like Loading...
URL:https://www.notjustseattle.com/event/rose-city-comicon-3/
LOCATION:Oregon Convention Center\, 777 NE Martin Luther King Jr Blvd\, Portland\, OR\, 97232\, United States
CATEGORIES:Geek
END:VEVENT
BEGIN:VEVENT
DTSTART;VALUE=DATE:20190907
DTEND;VALUE=DATE:20190908
DTSTAMP:20260425T083133
CREATED:20190719T192936Z
LAST-MODIFIED:20190719T192936Z
UID:4707-1567814400-1567814400@www.notjustseattle.com
SUMMARY:Rencon
DESCRIPTION:Share this:\n				Share on Facebook (Opens in new window)\n				Facebook\n			\n				Share on X (Opens in new window)\n				X\n			\n				Email a link to a friend (Opens in new window)\n				Email\n			\n				Share on Tumblr (Opens in new window)\n				Tumblr\n			\n				Share on LinkedIn (Opens in new window)\n				LinkedIn\n			Like this:Like Loading...
URL:https://www.notjustseattle.com/event/rencon/
LOCATION:Renton Technical College\, 3000 NE 4th St\, Renton\, WA\, 98056\, United States
CATEGORIES:Geek
END:VEVENT
BEGIN:VEVENT
DTSTART;VALUE=DATE:20190830
DTEND;VALUE=DATE:20190903
DTSTAMP:20260425T083133
CREATED:20190719T191812Z
LAST-MODIFIED:20190719T191812Z
UID:4700-1567123200-1567468799@www.notjustseattle.com
SUMMARY:PAX West
DESCRIPTION:Share this:\n				Share on Facebook (Opens in new window)\n				Facebook\n			\n				Share on X (Opens in new window)\n				X\n			\n				Email a link to a friend (Opens in new window)\n				Email\n			\n				Share on Tumblr (Opens in new window)\n				Tumblr\n			\n				Share on LinkedIn (Opens in new window)\n				LinkedIn\n			Like this:Like Loading...
URL:https://www.notjustseattle.com/event/pax-west-2/
LOCATION:The Conference Center at the Washington State Convention Center\, 800 Pike\, Seattle\, WA\, United States
END:VEVENT
BEGIN:VEVENT
DTSTART;VALUE=DATE:20181026
DTEND;VALUE=DATE:20181029
DTSTAMP:20260425T083133
CREATED:20180402T033006Z
LAST-MODIFIED:20180402T033006Z
UID:4077-1540512000-1540771199@www.notjustseattle.com
SUMMARY:Steamposium
DESCRIPTION:Share this:\n				Share on Facebook (Opens in new window)\n				Facebook\n			\n				Share on X (Opens in new window)\n				X\n			\n				Email a link to a friend (Opens in new window)\n				Email\n			\n				Share on Tumblr (Opens in new window)\n				Tumblr\n			\n				Share on LinkedIn (Opens in new window)\n				LinkedIn\n			Like this:Like Loading...
URL:https://www.notjustseattle.com/event/steamposium-3/
LOCATION:Bell Harbor International Conference Center\, 2211 Alaskan Way\, Seattle\, WA\, 98121\, United States
CATEGORIES:Geek
END:VEVENT
BEGIN:VEVENT
DTSTART;TZID=America/Los_Angeles:20181020T100000
DTEND;TZID=America/Los_Angeles:20181020T170000
DTSTAMP:20260425T083133
CREATED:20180402T032215Z
LAST-MODIFIED:20180402T032320Z
UID:4073-1540029600-1540054800@www.notjustseattle.com
SUMMARY:Bellingham Comicon
DESCRIPTION:Share this:\n				Share on Facebook (Opens in new window)\n				Facebook\n			\n				Share on X (Opens in new window)\n				X\n			\n				Email a link to a friend (Opens in new window)\n				Email\n			\n				Share on Tumblr (Opens in new window)\n				Tumblr\n			\n				Share on LinkedIn (Opens in new window)\n				LinkedIn\n			Like this:Like Loading...
URL:https://www.notjustseattle.com/event/bellingham-comicon-2/
LOCATION:Ferndale Event Center\, 5715 Barrett Rd\, Ferndale\, WA\, United States
CATEGORIES:Geek
END:VEVENT
BEGIN:VEVENT
DTSTART;VALUE=DATE:20180714
DTEND;VALUE=DATE:20180716
DTSTAMP:20260425T083133
CREATED:20180714T171301Z
LAST-MODIFIED:20180714T171336Z
UID:4268-1531526400-1531699199@www.notjustseattle.com
SUMMARY:DragonFest
DESCRIPTION:Share this:\n				Share on Facebook (Opens in new window)\n				Facebook\n			\n				Share on X (Opens in new window)\n				X\n			\n				Email a link to a friend (Opens in new window)\n				Email\n			\n				Share on Tumblr (Opens in new window)\n				Tumblr\n			\n				Share on LinkedIn (Opens in new window)\n				LinkedIn\n			Like this:Like Loading...
URL:https://www.notjustseattle.com/event/dragonfest/
LOCATION:WA
CATEGORIES:Geek
END:VEVENT
BEGIN:VEVENT
DTSTART;VALUE=DATE:20180713
DTEND;VALUE=DATE:20180716
DTSTAMP:20260425T083133
CREATED:20180402T032613Z
LAST-MODIFIED:20180402T032613Z
UID:4075-1531440000-1531699199@www.notjustseattle.com
SUMMARY:Kobe-Kon
DESCRIPTION:Share this:\n				Share on Facebook (Opens in new window)\n				Facebook\n			\n				Share on X (Opens in new window)\n				X\n			\n				Email a link to a friend (Opens in new window)\n				Email\n			\n				Share on Tumblr (Opens in new window)\n				Tumblr\n			\n				Share on LinkedIn (Opens in new window)\n				LinkedIn\n			Like this:Like Loading...
URL:https://www.notjustseattle.com/event/kobe-kon/
LOCATION:Everett Mall\, 1402 SE Everett Mall Way\, Everett\, WA\, 98208\, United States
CATEGORIES:Geek
END:VEVENT
BEGIN:VEVENT
DTSTART;VALUE=DATE:20180630
DTEND;VALUE=DATE:20180702
DTSTAMP:20260425T083133
CREATED:20180402T031710Z
LAST-MODIFIED:20180402T031710Z
UID:4067-1530316800-1530489599@www.notjustseattle.com
SUMMARY:WA State Toy and Geek Fest
DESCRIPTION:Share this:\n				Share on Facebook (Opens in new window)\n				Facebook\n			\n				Share on X (Opens in new window)\n				X\n			\n				Email a link to a friend (Opens in new window)\n				Email\n			\n				Share on Tumblr (Opens in new window)\n				Tumblr\n			\n				Share on LinkedIn (Opens in new window)\n				LinkedIn\n			Like this:Like Loading...
URL:https://www.notjustseattle.com/event/wa-state-toy-and-geek-fest/
LOCATION:Washington State Fair\, 110 9th Ave SW\, Puyallup\, WA\, 98371\, United States
END:VEVENT
BEGIN:VEVENT
DTSTART;VALUE=DATE:20180602
DTEND;VALUE=DATE:20180604
DTSTAMP:20260425T083133
CREATED:20170701T213236Z
LAST-MODIFIED:20170701T213236Z
UID:3424-1527897600-1528070399@www.notjustseattle.com
SUMMARY:Lilac City Comicon
DESCRIPTION:Share this:\n				Share on Facebook (Opens in new window)\n				Facebook\n			\n				Share on X (Opens in new window)\n				X\n			\n				Email a link to a friend (Opens in new window)\n				Email\n			\n				Share on Tumblr (Opens in new window)\n				Tumblr\n			\n				Share on LinkedIn (Opens in new window)\n				LinkedIn\n			Like this:Like Loading...
URL:https://www.notjustseattle.com/event/lilac-city-comicon/
LOCATION:Spokane Convention Center\, 334 W Spokane Falls Blvd\, Spokane\, WA\, 99201\, United States
END:VEVENT
END:VCALENDAR